Package: alabaster.mae Version: 1.7.0 Command: chmod a+r alabaster.mae -R && E:\biocbuild\bbs-3.21-bioc\R\bin\R.exe CMD build --keep-empty-dirs --no-resave-data alabaster.mae StartedAt: 2025-02-09 17:11:04 -0500 (Sun, 09 Feb 2025) EndedAt: 2025-02-09 17:11:58 -0500 (Sun, 09 Feb 2025) EllapsedTime: 54.6 seconds RetCode: 0 Status: OK PackageFile: alabaster.mae_1.7.0.tar.gz PackageFileSize: 222.7 KiB