Package: alabaster.matrix Version: 1.7.6 Command: /Library/Frameworks/R.framework/Resources/bin/R CMD check --install=check:alabaster.matrix.install-out.txt --library=/Library/Frameworks/R.framework/Resources/library --no-vignettes --timings alabaster.matrix_1.7.6.tar.gz StartedAt: 2025-02-09 18:00:40 -0500 (Sun, 09 Feb 2025) EndedAt: 2025-02-09 18:02:04 -0500 (Sun, 09 Feb 2025) EllapsedTime: 83.9 seconds RetCode: 0 Status: OK CheckDir: alabaster.matrix.Rcheck Warnings: 0