Package: alabaster.matrix Version: 1.7.7 Command: /Library/Frameworks/R.framework/Resources/bin/R CMD INSTALL alabaster.matrix StartedAt: 2025-02-12 15:03:52 -0500 (Wed, 12 Feb 2025) EndedAt: 2025-02-12 15:04:01 -0500 (Wed, 12 Feb 2025) EllapsedTime: 9.7 seconds RetCode: 0 Status: OK