Package: alabaster.matrix Version: 1.7.6 Command: /home/biocbuild/bbs-3.21-bioc/R/bin/R CMD build --keep-empty-dirs --no-resave-data alabaster.matrix StartedAt: 2025-02-09 16:07:29 -0500 (Sun, 09 Feb 2025) EndedAt: 2025-02-09 16:08:05 -0500 (Sun, 09 Feb 2025) EllapsedTime: 36.0 seconds RetCode: 0 Status: OK PackageFile: alabaster.matrix_1.7.6.tar.gz PackageFileSize: 273.6 KiB