Package: alabaster.ranges Version: 1.7.0 Command: /Library/Frameworks/R.framework/Resources/bin/R CMD INSTALL alabaster.ranges StartedAt: 2025-02-09 15:12:35 -0500 (Sun, 09 Feb 2025) EndedAt: 2025-02-09 15:12:54 -0500 (Sun, 09 Feb 2025) EllapsedTime: 18.7 seconds RetCode: 0 Status: OK