Package: alabaster.ranges Version: 1.7.0 Command: rm -rf alabaster.ranges.buildbin-libdir && mkdir alabaster.ranges.buildbin-libdir && E:\biocbuild\bbs-3.21-bioc\R\bin\R.exe CMD INSTALL --build --library=alabaster.ranges.buildbin-libdir alabaster.ranges_1.7.0.tar.gz StartedAt: 2025-02-13 07:22:45 -0500 (Thu, 13 Feb 2025) EndedAt: 2025-02-13 07:23:23 -0500 (Thu, 13 Feb 2025) EllapsedTime: 38.1 seconds RetCode: 0 Status: OK PackageFile: alabaster.ranges_1.7.0.zip PackageFileSize: 313.1 KiB