Package: alabaster.ranges Version: 1.7.0 Command: chmod a+r alabaster.ranges -R && E:\biocbuild\bbs-3.21-bioc\R\bin\R.exe CMD build --keep-empty-dirs --no-resave-data alabaster.ranges StartedAt: 2025-02-09 17:11:16 -0500 (Sun, 09 Feb 2025) EndedAt: 2025-02-09 17:11:42 -0500 (Sun, 09 Feb 2025) EllapsedTime: 25.7 seconds RetCode: 0 Status: OK PackageFile: alabaster.ranges_1.7.0.tar.gz PackageFileSize: 225.7 KiB