Package: alabaster.sce Version: 1.7.0 Command: /Library/Frameworks/R.framework/Resources/bin/R CMD build --keep-empty-dirs --no-resave-data alabaster.sce StartedAt: 2025-02-04 15:32:27 -0500 (Tue, 04 Feb 2025) EndedAt: 2025-02-04 15:32:42 -0500 (Tue, 04 Feb 2025) EllapsedTime: 15.2 seconds RetCode: 0 Status: OK PackageFile: alabaster.sce_1.7.0.tar.gz PackageFileSize: 220.3 KiB