Package: alabaster.sce Version: 1.7.0 Command: /Library/Frameworks/R.framework/Resources/bin/R CMD check --install=check:alabaster.sce.install-out.txt --library=/Library/Frameworks/R.framework/Resources/library --no-vignettes --timings alabaster.sce_1.7.0.tar.gz StartedAt: 2025-02-04 18:51:43 -0500 (Tue, 04 Feb 2025) EndedAt: 2025-02-04 18:55:36 -0500 (Tue, 04 Feb 2025) EllapsedTime: 233.2 seconds RetCode: 0 Status: OK CheckDir: alabaster.sce.Rcheck Warnings: 0