Package: alabaster.sce Version: 1.7.0 Command: /Library/Frameworks/R.framework/Resources/bin/R CMD INSTALL alabaster.sce StartedAt: 2025-02-04 15:38:49 -0500 (Tue, 04 Feb 2025) EndedAt: 2025-02-04 15:39:25 -0500 (Tue, 04 Feb 2025) EllapsedTime: 35.8 seconds RetCode: 0 Status: OK