Package: alabaster.sce Version: 1.7.0 Command: /home/biocbuild/bbs-3.21-bioc/R/bin/R CMD INSTALL alabaster.sce StartedAt: 2025-02-09 15:36:02 -0500 (Sun, 09 Feb 2025) EndedAt: 2025-02-09 15:36:30 -0500 (Sun, 09 Feb 2025) EllapsedTime: 27.7 seconds RetCode: 0 Status: OK