Package: alabaster.sce Version: 1.7.0 Command: E:\biocbuild\bbs-3.21-bioc\R\bin\R.exe CMD check --no-multiarch --install=check:alabaster.sce.install-out.txt --library=E:\biocbuild\bbs-3.21-bioc\R\library --no-vignettes --timings alabaster.sce_1.7.0.tar.gz StartedAt: 2025-02-09 22:32:25 -0500 (Sun, 09 Feb 2025) EndedAt: 2025-02-09 22:36:29 -0500 (Sun, 09 Feb 2025) EllapsedTime: 243.3 seconds RetCode: 0 Status: OK CheckDir: alabaster.sce.Rcheck Warnings: 0