Package: alabaster.vcf Version: 1.7.0 Command: /Library/Frameworks/R.framework/Resources/bin/R CMD build --keep-empty-dirs --no-resave-data alabaster.vcf StartedAt: 2025-02-04 15:32:34 -0500 (Tue, 04 Feb 2025) EndedAt: 2025-02-04 15:32:57 -0500 (Tue, 04 Feb 2025) EllapsedTime: 23.2 seconds RetCode: 0 Status: OK PackageFile: alabaster.vcf_1.7.0.tar.gz PackageFileSize: 223 KiB