Package: alabaster.vcf Version: 1.7.0 Command: /Library/Frameworks/R.framework/Resources/bin/R CMD INSTALL alabaster.vcf StartedAt: 2025-02-04 15:26:33 -0500 (Tue, 04 Feb 2025) EndedAt: 2025-02-04 15:26:52 -0500 (Tue, 04 Feb 2025) EllapsedTime: 18.5 seconds RetCode: 0 Status: OK