Package: alabaster.vcf Version: 1.7.0 Command: /home/biocbuild/R/R/bin/R CMD check --install=check:alabaster.vcf.install-out.txt --library=/home/biocbuild/R/R/site-library --no-vignettes --timings alabaster.vcf_1.7.0.tar.gz StartedAt: 2024-12-09 03:35:44 -0000 (Mon, 09 Dec 2024) EndedAt: 2024-12-09 03:43:23 -0000 (Mon, 09 Dec 2024) EllapsedTime: 458.9 seconds RetCode: 0 Status: OK CheckDir: alabaster.vcf.Rcheck Warnings: 0