Package: alabaster.vcf Version: 1.7.0 Command: rm -rf alabaster.vcf.buildbin-libdir && mkdir alabaster.vcf.buildbin-libdir && /Users/biocbuild/BBS/utils/build-universal.sh alabaster.vcf_1.7.0.tar.gz /Library/Frameworks/R.framework/Resources/bin/R alabaster.vcf.buildbin-libdir StartedAt: 2025-02-10 00:41:25 -0500 (Mon, 10 Feb 2025) EndedAt: 2025-02-10 00:42:30 -0500 (Mon, 10 Feb 2025) EllapsedTime: 64.9 seconds RetCode: 0 Status: OK PackageFile: alabaster.vcf_1.7.0.tgz PackageFileSize: 303.9 KiB