Package: alabaster.vcf Version: 1.7.0 Command: /Library/Frameworks/R.framework/Resources/bin/R CMD build --keep-empty-dirs --no-resave-data alabaster.vcf StartedAt: 2025-02-09 15:52:44 -0500 (Sun, 09 Feb 2025) EndedAt: 2025-02-09 15:53:57 -0500 (Sun, 09 Feb 2025) EllapsedTime: 73.1 seconds RetCode: 0 Status: OK PackageFile: alabaster.vcf_1.7.0.tar.gz PackageFileSize: 223 KiB