Package: alabaster.vcf Version: 1.7.0 Command: /Library/Frameworks/R.framework/Resources/bin/R CMD check --install=check:alabaster.vcf.install-out.txt --library=/Library/Frameworks/R.framework/Resources/library --no-vignettes --timings alabaster.vcf_1.7.0.tar.gz StartedAt: 2025-02-09 19:01:02 -0500 (Sun, 09 Feb 2025) EndedAt: 2025-02-09 19:07:44 -0500 (Sun, 09 Feb 2025) EllapsedTime: 402.3 seconds RetCode: 0 Status: OK CheckDir: alabaster.vcf.Rcheck Warnings: 0