Package: alabaster.vcf Version: 1.7.0 Command: /Library/Frameworks/R.framework/Resources/bin/R CMD INSTALL alabaster.vcf StartedAt: 2025-02-09 15:40:10 -0500 (Sun, 09 Feb 2025) EndedAt: 2025-02-09 15:41:11 -0500 (Sun, 09 Feb 2025) EllapsedTime: 61.0 seconds RetCode: 0 Status: OK