Package: alabaster.vcf Version: 1.7.0 Command: rm -rf alabaster.vcf.buildbin-libdir && mkdir alabaster.vcf.buildbin-libdir && E:\biocbuild\bbs-3.21-bioc\R\bin\R.exe CMD INSTALL --build --library=alabaster.vcf.buildbin-libdir alabaster.vcf_1.7.0.tar.gz StartedAt: 2025-02-10 07:11:25 -0500 (Mon, 10 Feb 2025) EndedAt: 2025-02-10 07:12:20 -0500 (Mon, 10 Feb 2025) EllapsedTime: 55.1 seconds RetCode: 0 Status: OK PackageFile: alabaster.vcf_1.7.0.zip PackageFileSize: 307.5 KiB