Package: alabaster.vcf Version: 1.7.0 Command: chmod a+r alabaster.vcf -R && E:\biocbuild\bbs-3.21-bioc\R\bin\R.exe CMD build --keep-empty-dirs --no-resave-data alabaster.vcf StartedAt: 2025-02-09 17:11:41 -0500 (Sun, 09 Feb 2025) EndedAt: 2025-02-09 17:12:59 -0500 (Sun, 09 Feb 2025) EllapsedTime: 77.2 seconds RetCode: 0 Status: OK PackageFile: alabaster.vcf_1.7.0.tar.gz PackageFileSize: 223.2 KiB