Package: alabaster.vcf Version: 1.7.0 Command: E:\biocbuild\bbs-3.21-bioc\R\bin\R.exe CMD check --no-multiarch --install=check:alabaster.vcf.install-out.txt --library=E:\biocbuild\bbs-3.21-bioc\R\library --no-vignettes --timings alabaster.vcf_1.7.0.tar.gz StartedAt: 2025-02-09 22:32:59 -0500 (Sun, 09 Feb 2025) EndedAt: 2025-02-09 22:39:55 -0500 (Sun, 09 Feb 2025) EllapsedTime: 415.9 seconds RetCode: 0 Status: OK CheckDir: alabaster.vcf.Rcheck Warnings: 0