Package: alabaster.vcf Version: 1.7.0 Command: E:\biocbuild\bbs-3.21-bioc\R\bin\R.exe CMD INSTALL alabaster.vcf StartedAt: 2025-02-04 16:45:15 -0500 (Tue, 04 Feb 2025) EndedAt: 2025-02-04 16:46:08 -0500 (Tue, 04 Feb 2025) EllapsedTime: 53.2 seconds RetCode: 0 Status: OK