Package: alabaster Version: 1.7.0 Command: /Library/Frameworks/R.framework/Resources/bin/R CMD build --keep-empty-dirs --no-resave-data alabaster StartedAt: 2025-02-09 15:31:56 -0500 (Sun, 09 Feb 2025) EndedAt: 2025-02-09 15:32:15 -0500 (Sun, 09 Feb 2025) EllapsedTime: 19.2 seconds RetCode: 0 Status: OK PackageFile: alabaster_1.7.0.tar.gz PackageFileSize: 215.5 KiB