Package: alabaster Version: 1.7.0 Command: /Library/Frameworks/R.framework/Resources/bin/R CMD INSTALL alabaster StartedAt: 2025-02-09 15:26:42 -0500 (Sun, 09 Feb 2025) EndedAt: 2025-02-09 15:27:01 -0500 (Sun, 09 Feb 2025) EllapsedTime: 19.0 seconds RetCode: 0 Status: OK