Package: alabaster Version: 1.7.0 Command: /Library/Frameworks/R.framework/Resources/bin/R CMD build --keep-empty-dirs --no-resave-data alabaster StartedAt: 2025-02-12 15:51:05 -0500 (Wed, 12 Feb 2025) EndedAt: 2025-02-12 15:51:59 -0500 (Wed, 12 Feb 2025) EllapsedTime: 53.8 seconds RetCode: 0 Status: OK PackageFile: alabaster_1.7.0.tar.gz PackageFileSize: 215.5 KiB