Package: alabaster Version: 1.7.0 Command: /home/biocbuild/bbs-3.21-bioc/R/bin/R CMD build --keep-empty-dirs --no-resave-data alabaster StartedAt: 2025-02-09 16:07:11 -0500 (Sun, 09 Feb 2025) EndedAt: 2025-02-09 16:08:01 -0500 (Sun, 09 Feb 2025) EllapsedTime: 50.1 seconds RetCode: 0 Status: OK PackageFile: alabaster_1.7.0.tar.gz PackageFileSize: 215.7 KiB