Package: alabaster Version: 1.7.0 Command: chmod a+r alabaster -R && E:\biocbuild\bbs-3.21-bioc\R\bin\R.exe CMD build --keep-empty-dirs --no-resave-data alabaster StartedAt: 2025-02-09 17:10:36 -0500 (Sun, 09 Feb 2025) EndedAt: 2025-02-09 17:11:40 -0500 (Sun, 09 Feb 2025) EllapsedTime: 64.5 seconds RetCode: 0 Status: OK PackageFile: alabaster_1.7.0.tar.gz PackageFileSize: 215.6 KiB