Package: alevinQC Version: 1.23.1 Command: /Library/Frameworks/R.framework/Resources/bin/R CMD INSTALL alevinQC StartedAt: 2025-02-09 15:15:32 -0500 (Sun, 09 Feb 2025) EndedAt: 2025-02-09 15:15:36 -0500 (Sun, 09 Feb 2025) EllapsedTime: 3.8 seconds RetCode: 0 Status: OK