Package: alevinQC Version: 1.23.1 Command: /home/biocbuild/R/R/bin/R CMD check --install=check:alevinQC.install-out.txt --library=/home/biocbuild/R/R/site-library --no-vignettes --timings alevinQC_1.23.1.tar.gz StartedAt: 2025-01-28 03:30:01 -0000 (Tue, 28 Jan 2025) EndedAt: 2025-01-28 03:33:09 -0000 (Tue, 28 Jan 2025) EllapsedTime: 187.2 seconds RetCode: 0 Status: OK CheckDir: alevinQC.Rcheck Warnings: 0