Package: alevinQC Version: 1.23.1 Command: /home/biocbuild/R/R/bin/R CMD INSTALL alevinQC StartedAt: 2025-01-29 20:06:30 -0000 (Wed, 29 Jan 2025) EndedAt: 2025-01-29 20:06:47 -0000 (Wed, 29 Jan 2025) EllapsedTime: 16.5 seconds RetCode: 0 Status: OK