Package: alevinQC Version: 1.23.1 Command: rm -rf alevinQC.buildbin-libdir && mkdir alevinQC.buildbin-libdir && /Users/biocbuild/BBS/utils/build-universal.sh alevinQC_1.23.1.tar.gz /Library/Frameworks/R.framework/Resources/bin/R alevinQC.buildbin-libdir StartedAt: 2025-02-10 00:41:27 -0500 (Mon, 10 Feb 2025) EndedAt: 2025-02-10 00:41:51 -0500 (Mon, 10 Feb 2025) EllapsedTime: 24.2 seconds RetCode: 0 Status: OK PackageFile: alevinQC_1.23.1.tgz PackageFileSize: 8.011 MiB