Package: alevinQC Version: 1.23.1 Command: /Library/Frameworks/R.framework/Resources/bin/R CMD build --keep-empty-dirs --no-resave-data alevinQC StartedAt: 2025-02-09 15:52:50 -0500 (Sun, 09 Feb 2025) EndedAt: 2025-02-09 15:53:37 -0500 (Sun, 09 Feb 2025) EllapsedTime: 46.9 seconds RetCode: 0 Status: OK PackageFile: alevinQC_1.23.1.tar.gz PackageFileSize: 7.605 MiB