Package: alevinQC Version: 1.23.1 Command: /Library/Frameworks/R.framework/Resources/bin/R CMD check --install=check:alevinQC.install-out.txt --library=/Library/Frameworks/R.framework/Resources/library --no-vignettes --timings alevinQC_1.23.1.tar.gz StartedAt: 2025-02-12 18:52:33 -0500 (Wed, 12 Feb 2025) EndedAt: 2025-02-12 18:55:27 -0500 (Wed, 12 Feb 2025) EllapsedTime: 173.1 seconds RetCode: 0 Status: OK CheckDir: alevinQC.Rcheck Warnings: 0