Package: alevinQC Version: 1.23.1 Command: /Library/Frameworks/R.framework/Resources/bin/R CMD INSTALL alevinQC StartedAt: 2025-02-09 15:25:28 -0500 (Sun, 09 Feb 2025) EndedAt: 2025-02-09 15:25:43 -0500 (Sun, 09 Feb 2025) EllapsedTime: 15.6 seconds RetCode: 0 Status: OK