Package: alevinQC Version: 1.23.1 Command: chmod a+r alevinQC -R && E:\biocbuild\bbs-3.21-bioc\R\bin\R.exe CMD build --keep-empty-dirs --no-resave-data alevinQC StartedAt: 2025-02-09 17:11:43 -0500 (Sun, 09 Feb 2025) EndedAt: 2025-02-09 17:12:44 -0500 (Sun, 09 Feb 2025) EllapsedTime: 61.2 seconds RetCode: 0 Status: OK PackageFile: alevinQC_1.23.1.tar.gz PackageFileSize: 7.309 MiB