Package: alevinQC Version: 1.23.1 Command: E:\biocbuild\bbs-3.21-bioc\R\bin\R.exe CMD check --no-multiarch --install=check:alevinQC.install-out.txt --library=E:\biocbuild\bbs-3.21-bioc\R\library --no-vignettes --timings alevinQC_1.23.1.tar.gz StartedAt: 2025-02-04 22:59:07 -0500 (Tue, 04 Feb 2025) EndedAt: 2025-02-04 23:03:03 -0500 (Tue, 04 Feb 2025) EllapsedTime: 236.0 seconds RetCode: 0 Status: OK CheckDir: alevinQC.Rcheck Warnings: 0