Package: alevinQC Version: 1.23.1 Command: E:\biocbuild\bbs-3.21-bioc\R\bin\R.exe CMD INSTALL alevinQC StartedAt: 2025-02-09 15:42:21 -0500 (Sun, 09 Feb 2025) EndedAt: 2025-02-09 15:43:00 -0500 (Sun, 09 Feb 2025) EllapsedTime: 38.8 seconds RetCode: 0 Status: OK