Package: amplican Version: 1.29.0 Command: rm -rf amplican.buildbin-libdir && mkdir amplican.buildbin-libdir && /Users/biocbuild/BBS/utils/build-universal.sh amplican_1.29.0.tar.gz /Library/Frameworks/R.framework/Resources/bin/R amplican.buildbin-libdir StartedAt: 2025-02-09 22:05:44 -0500 (Sun, 09 Feb 2025) EndedAt: 2025-02-09 22:05:56 -0500 (Sun, 09 Feb 2025) EllapsedTime: 11.3 seconds RetCode: 0 Status: OK PackageFile: amplican_1.29.0.tgz PackageFileSize: 9.618 MiB