Package: amplican Version: 1.29.0 Command: /Library/Frameworks/R.framework/Resources/bin/R CMD build --keep-empty-dirs --no-resave-data amplican StartedAt: 2025-02-09 15:32:41 -0500 (Sun, 09 Feb 2025) EndedAt: 2025-02-09 15:33:09 -0500 (Sun, 09 Feb 2025) EllapsedTime: 28.3 seconds RetCode: 0 Status: OK PackageFile: amplican_1.29.0.tar.gz PackageFileSize: 10.97 MiB