Package: amplican Version: 1.29.0 Command: /home/biocbuild/R/R/bin/R CMD check --install=check:amplican.install-out.txt --library=/home/biocbuild/R/R/site-library --no-vignettes --timings amplican_1.29.0.tar.gz StartedAt: 2025-01-28 03:30:37 -0000 (Tue, 28 Jan 2025) EndedAt: 2025-01-28 03:34:05 -0000 (Tue, 28 Jan 2025) EllapsedTime: 208.3 seconds RetCode: 0 Status: OK CheckDir: amplican.Rcheck Warnings: 0