Package: amplican Version: 1.29.0 Command: /Library/Frameworks/R.framework/Resources/bin/R CMD check --install=check:amplican.install-out.txt --library=/Library/Frameworks/R.framework/Resources/library --no-vignettes --timings amplican_1.29.0.tar.gz StartedAt: 2025-02-09 19:02:10 -0500 (Sun, 09 Feb 2025) EndedAt: 2025-02-09 19:05:29 -0500 (Sun, 09 Feb 2025) EllapsedTime: 199.1 seconds RetCode: 0 Status: OK CheckDir: amplican.Rcheck Warnings: 0