Package: amplican Version: 1.29.0 Command: /Library/Frameworks/R.framework/Resources/bin/R CMD INSTALL amplican StartedAt: 2025-02-04 15:24:23 -0500 (Tue, 04 Feb 2025) EndedAt: 2025-02-04 15:24:53 -0500 (Tue, 04 Feb 2025) EllapsedTime: 30.4 seconds RetCode: 0 Status: OK