Package: amplican Version: 1.29.0 Command: /home/biocbuild/bbs-3.21-bioc/R/bin/R CMD build --keep-empty-dirs --no-resave-data amplican StartedAt: 2025-02-09 16:08:17 -0500 (Sun, 09 Feb 2025) EndedAt: 2025-02-09 16:09:37 -0500 (Sun, 09 Feb 2025) EllapsedTime: 80.1 seconds RetCode: 0 Status: OK PackageFile: amplican_1.29.0.tar.gz PackageFileSize: 9.805 MiB