Package: amplican Version: 1.29.0 Command: rm -rf amplican.buildbin-libdir && mkdir amplican.buildbin-libdir && E:\biocbuild\bbs-3.21-bioc\R\bin\R.exe CMD INSTALL --build --library=amplican.buildbin-libdir amplican_1.29.0.tar.gz StartedAt: 2025-02-10 07:11:49 -0500 (Mon, 10 Feb 2025) EndedAt: 2025-02-10 07:13:27 -0500 (Mon, 10 Feb 2025) EllapsedTime: 98.4 seconds RetCode: 0 Status: OK PackageFile: amplican_1.29.0.zip PackageFileSize: 5.583 MiB