Package: amplican Version: 1.29.0 Command: chmod a+r amplican -R && E:\biocbuild\bbs-3.21-bioc\R\bin\R.exe CMD build --keep-empty-dirs --no-resave-data amplican StartedAt: 2025-02-09 17:12:22 -0500 (Sun, 09 Feb 2025) EndedAt: 2025-02-09 17:14:53 -0500 (Sun, 09 Feb 2025) EllapsedTime: 151.1 seconds RetCode: 0 Status: OK PackageFile: amplican_1.29.0.tar.gz PackageFileSize: 6.574 MiB