Package: animalcules Version: 1.23.0 Command: /Library/Frameworks/R.framework/Resources/bin/R CMD build --keep-empty-dirs --no-resave-data animalcules StartedAt: 2025-02-05 15:33:51 -0500 (Wed, 05 Feb 2025) EndedAt: 2025-02-05 15:34:16 -0500 (Wed, 05 Feb 2025) EllapsedTime: 24.3 seconds RetCode: 0 Status: OK PackageFile: animalcules_1.23.0.tar.gz PackageFileSize: 3.326 MiB