Package: animalcules Version: 1.23.0 Command: /Library/Frameworks/R.framework/Resources/bin/R CMD check --install=check:animalcules.install-out.txt --library=/Library/Frameworks/R.framework/Resources/library --no-vignettes --timings animalcules_1.23.0.tar.gz StartedAt: 2025-02-05 18:05:12 -0500 (Wed, 05 Feb 2025) EndedAt: 2025-02-05 18:06:52 -0500 (Wed, 05 Feb 2025) EllapsedTime: 100.4 seconds RetCode: 1 Status: ERROR CheckDir: animalcules.Rcheck Warnings: NA