Package: animalcules Version: 1.23.0 Command: /home/biocbuild/R/R/bin/R CMD build --keep-empty-dirs --no-resave-data animalcules StartedAt: 2025-01-29 20:49:06 -0000 (Wed, 29 Jan 2025) EndedAt: 2025-01-29 20:50:39 -0000 (Wed, 29 Jan 2025) EllapsedTime: 93.0 seconds RetCode: 0 Status: OK PackageFile: animalcules_1.23.0.tar.gz PackageFileSize: 3.785 MiB