Package: animalcules Version: 1.23.0 Command: /home/biocbuild/R/R/bin/R CMD check --install=check:animalcules.install-out.txt --library=/home/biocbuild/R/R/site-library --no-vignettes --timings animalcules_1.23.0.tar.gz StartedAt: 2025-01-28 03:31:03 -0000 (Tue, 28 Jan 2025) EndedAt: 2025-01-28 03:36:54 -0000 (Tue, 28 Jan 2025) EllapsedTime: 351.6 seconds RetCode: 0 Status: OK CheckDir: animalcules.Rcheck Warnings: 0